BEGIN:VCALENDAR
VERSION:2.0
PRODID:-//Barnton Community Nursery &amp; Primary School - ECPv6.15.17//NONSGML v1.0//EN
CALSCALE:GREGORIAN
METHOD:PUBLISH
X-WR-CALNAME:Barnton Community Nursery &amp; Primary School
X-ORIGINAL-URL:https://www.barnton.cheshire.sch.uk
X-WR-CALDESC:Events for Barnton Community Nursery &amp; Primary School
REFRESH-INTERVAL;VALUE=DURATION:PT1H
X-Robots-Tag:noindex
X-PUBLISHED-TTL:PT1H
BEGIN:VTIMEZONE
TZID:Europe/London
BEGIN:DAYLIGHT
TZOFFSETFROM:+0000
TZOFFSETTO:+0100
TZNAME:BST
DTSTART:20220327T010000
END:DAYLIGHT
BEGIN:STANDARD
TZOFFSETFROM:+0100
TZOFFSETTO:+0000
TZNAME:GMT
DTSTART:20221030T010000
END:STANDARD
BEGIN:DAYLIGHT
TZOFFSETFROM:+0000
TZOFFSETTO:+0100
TZNAME:BST
DTSTART:20230326T010000
END:DAYLIGHT
BEGIN:STANDARD
TZOFFSETFROM:+0100
TZOFFSETTO:+0000
TZNAME:GMT
DTSTART:20231029T010000
END:STANDARD
BEGIN:DAYLIGHT
TZOFFSETFROM:+0000
TZOFFSETTO:+0100
TZNAME:BST
DTSTART:20240331T010000
END:DAYLIGHT
BEGIN:STANDARD
TZOFFSETFROM:+0100
TZOFFSETTO:+0000
TZNAME:GMT
DTSTART:20241027T010000
END:STANDARD
END:VTIMEZONE
BEGIN:VEVENT
DTSTART;VALUE=DATE:20231113
DTEND;VALUE=DATE:20231114
DTSTAMP:20260426T025855
CREATED:20231017T120525Z
LAST-MODIFIED:20231113T124948Z
UID:10000402-1699833600-1699919999@www.barnton.cheshire.sch.uk
SUMMARY:Year 2 AN - Nantwich Museum Trip
DESCRIPTION:
URL:https://www.barnton.cheshire.sch.uk/event/year-2-an-nantwich-museum-trip/
END:VEVENT
BEGIN:VEVENT
DTSTART;TZID=Europe/London:20231114T153000
DTEND;TZID=Europe/London:20231114T183000
DTSTAMP:20260426T025855
CREATED:20231017T120526Z
LAST-MODIFIED:20231114T124934Z
UID:10000403-1699975800-1699986600@www.barnton.cheshire.sch.uk
SUMMARY:Parents' Evening
DESCRIPTION:
URL:https://www.barnton.cheshire.sch.uk/event/parents-evening-17/
END:VEVENT
BEGIN:VEVENT
DTSTART;VALUE=DATE:20231115
DTEND;VALUE=DATE:20231118
DTSTAMP:20260426T025855
CREATED:20231017T120526Z
LAST-MODIFIED:20231117T124911Z
UID:10000245-1700006400-1700265599@www.barnton.cheshire.sch.uk
SUMMARY:Y3 @ Standon Bowers
DESCRIPTION:
URL:https://www.barnton.cheshire.sch.uk/event/y3-standon-bowers-2/
END:VEVENT
BEGIN:VEVENT
DTSTART;TZID=Europe/London:20231115T153000
DTEND;TZID=Europe/London:20231115T183000
DTSTAMP:20260426T025855
CREATED:20231017T120526Z
LAST-MODIFIED:20231115T125006Z
UID:10000247-1700062200-1700073000@www.barnton.cheshire.sch.uk
SUMMARY:Parents' Evening
DESCRIPTION:
URL:https://www.barnton.cheshire.sch.uk/event/parents-evening-18/
END:VEVENT
BEGIN:VEVENT
DTSTART;VALUE=DATE:20231117
DTEND;VALUE=DATE:20231118
DTSTAMP:20260426T025855
CREATED:20231017T120526Z
LAST-MODIFIED:20231117T124911Z
UID:10000249-1700179200-1700265599@www.barnton.cheshire.sch.uk
SUMMARY:Children in Need - 'Be Spotacular' (Dress Down Day)
DESCRIPTION:
URL:https://www.barnton.cheshire.sch.uk/event/children-in-need-be-spotacular-dress-down-day/
END:VEVENT
END:VCALENDAR