BEGIN:VCALENDAR
VERSION:2.0
PRODID:-//Barnton Community Nursery &amp; Primary School - ECPv6.15.17//NONSGML v1.0//EN
CALSCALE:GREGORIAN
METHOD:PUBLISH
X-WR-CALNAME:Barnton Community Nursery &amp; Primary School
X-ORIGINAL-URL:https://www.barnton.cheshire.sch.uk
X-WR-CALDESC:Events for Barnton Community Nursery &amp; Primary School
REFRESH-INTERVAL;VALUE=DURATION:PT1H
X-Robots-Tag:noindex
X-PUBLISHED-TTL:PT1H
BEGIN:VTIMEZONE
TZID:Europe/London
BEGIN:DAYLIGHT
TZOFFSETFROM:+0000
TZOFFSETTO:+0100
TZNAME:BST
DTSTART:20220327T010000
END:DAYLIGHT
BEGIN:STANDARD
TZOFFSETFROM:+0100
TZOFFSETTO:+0000
TZNAME:GMT
DTSTART:20221030T010000
END:STANDARD
BEGIN:DAYLIGHT
TZOFFSETFROM:+0000
TZOFFSETTO:+0100
TZNAME:BST
DTSTART:20230326T010000
END:DAYLIGHT
BEGIN:STANDARD
TZOFFSETFROM:+0100
TZOFFSETTO:+0000
TZNAME:GMT
DTSTART:20231029T010000
END:STANDARD
BEGIN:DAYLIGHT
TZOFFSETFROM:+0000
TZOFFSETTO:+0100
TZNAME:BST
DTSTART:20240331T010000
END:DAYLIGHT
BEGIN:STANDARD
TZOFFSETFROM:+0100
TZOFFSETTO:+0000
TZNAME:GMT
DTSTART:20241027T010000
END:STANDARD
END:VTIMEZONE
BEGIN:VEVENT
DTSTART;TZID=Europe/London:20230330T090000
DTEND;TZID=Europe/London:20230330T100000
DTSTAMP:20260425T004043
CREATED:20230121T130440Z
LAST-MODIFIED:20230329T170408Z
UID:10000209-1680166800-1680170400@www.barnton.cheshire.sch.uk
SUMMARY:EYS Easter Bonnet Parade & Hot Cross Bun Coffee Morning
DESCRIPTION:
URL:https://www.barnton.cheshire.sch.uk/event/eys-easter-bonnet-parade-hot-cross-bun-coffee-morning/
END:VEVENT
BEGIN:VEVENT
DTSTART;TZID=Europe/London:20230331T090000
DTEND;TZID=Europe/London:20230331T100000
DTSTAMP:20260425T004043
CREATED:20230121T130440Z
LAST-MODIFIED:20230330T170416Z
UID:10000210-1680253200-1680256800@www.barnton.cheshire.sch.uk
SUMMARY:KS1 Easter Bonnet Parade & Hot Cross Bun Coffee Morning
DESCRIPTION:
URL:https://www.barnton.cheshire.sch.uk/event/ks1-easter-bonnet-parade-hot-cross-bun-coffee-morning/
END:VEVENT
BEGIN:VEVENT
DTSTART;TZID=Europe/London:20230331T140000
DTEND;TZID=Europe/London:20230331T150000
DTSTAMP:20260425T004043
CREATED:20230121T130440Z
LAST-MODIFIED:20230330T170416Z
UID:10000212-1680271200-1680274800@www.barnton.cheshire.sch.uk
SUMMARY:KS2 Hot Cross Bun Afternoon
DESCRIPTION:
URL:https://www.barnton.cheshire.sch.uk/event/ks2-hot-cross-bun-afternoon/
END:VEVENT
BEGIN:VEVENT
DTSTART;TZID=Europe/London:20230331T153000
DTEND;TZID=Europe/London:20230331T233000
DTSTAMP:20260425T004043
CREATED:20230121T130440Z
LAST-MODIFIED:20230331T170528Z
UID:10000214-1680276600-1680305400@www.barnton.cheshire.sch.uk
SUMMARY:School closes for Easter holidays
DESCRIPTION:
URL:https://www.barnton.cheshire.sch.uk/event/school-closes-for-easter-holidays/
END:VEVENT
BEGIN:VEVENT
DTSTART;VALUE=DATE:20230403
DTEND;VALUE=DATE:20230417
DTSTAMP:20260425T004043
CREATED:20230121T130440Z
LAST-MODIFIED:20230416T173821Z
UID:10000216-1680480000-1681689599@www.barnton.cheshire.sch.uk
SUMMARY:Easter Holidays
DESCRIPTION:
URL:https://www.barnton.cheshire.sch.uk/event/easter-holidays/
END:VEVENT
END:VCALENDAR