BEGIN:VCALENDAR
VERSION:2.0
PRODID:-//Barnton Community Nursery &amp; Primary School - ECPv6.15.17//NONSGML v1.0//EN
CALSCALE:GREGORIAN
METHOD:PUBLISH
X-ORIGINAL-URL:https://www.barnton.cheshire.sch.uk
X-WR-CALDESC:Events for Barnton Community Nursery &amp; Primary School
REFRESH-INTERVAL;VALUE=DURATION:PT1H
X-Robots-Tag:noindex
X-PUBLISHED-TTL:PT1H
BEGIN:VTIMEZONE
TZID:Europe/London
BEGIN:DAYLIGHT
TZOFFSETFROM:+0000
TZOFFSETTO:+0100
TZNAME:BST
DTSTART:20220327T010000
END:DAYLIGHT
BEGIN:STANDARD
TZOFFSETFROM:+0100
TZOFFSETTO:+0000
TZNAME:GMT
DTSTART:20221030T010000
END:STANDARD
BEGIN:DAYLIGHT
TZOFFSETFROM:+0000
TZOFFSETTO:+0100
TZNAME:BST
DTSTART:20230326T010000
END:DAYLIGHT
BEGIN:STANDARD
TZOFFSETFROM:+0100
TZOFFSETTO:+0000
TZNAME:GMT
DTSTART:20231029T010000
END:STANDARD
BEGIN:DAYLIGHT
TZOFFSETFROM:+0000
TZOFFSETTO:+0100
TZNAME:BST
DTSTART:20240331T010000
END:DAYLIGHT
BEGIN:STANDARD
TZOFFSETFROM:+0100
TZOFFSETTO:+0000
TZNAME:GMT
DTSTART:20241027T010000
END:STANDARD
END:VTIMEZONE
BEGIN:VEVENT
DTSTART;VALUE=DATE:20230220
DTEND;VALUE=DATE:20230225
DTSTAMP:20260425T134900
CREATED:20230121T130440Z
LAST-MODIFIED:20230224T150416Z
UID:10000361-1676851200-1677283199@www.barnton.cheshire.sch.uk
SUMMARY:Half term
DESCRIPTION:
URL:https://www.barnton.cheshire.sch.uk/event/half-term/
END:VEVENT
BEGIN:VEVENT
DTSTART;TZID=Europe/London:20230223T090000
DTEND;TZID=Europe/London:20230223T110000
DTSTAMP:20260425T134900
CREATED:20230121T130439Z
LAST-MODIFIED:20230222T150422Z
UID:10000360-1677142800-1677150000@www.barnton.cheshire.sch.uk
SUMMARY:Pocketbook Family Learning Course (Rec\, Y1\, Y2)
DESCRIPTION:
URL:https://www.barnton.cheshire.sch.uk/event/pocketbook-family-learning-course-rec-y1-y2-4/
END:VEVENT
END:VCALENDAR