BEGIN:VCALENDAR
VERSION:2.0
PRODID:-//Barnton Community Nursery &amp; Primary School - ECPv6.15.17//NONSGML v1.0//EN
CALSCALE:GREGORIAN
METHOD:PUBLISH
X-WR-CALNAME:Barnton Community Nursery &amp; Primary School
X-ORIGINAL-URL:https://www.barnton.cheshire.sch.uk
X-WR-CALDESC:Events for Barnton Community Nursery &amp; Primary School
REFRESH-INTERVAL;VALUE=DURATION:PT1H
X-Robots-Tag:noindex
X-PUBLISHED-TTL:PT1H
BEGIN:VTIMEZONE
TZID:Europe/London
BEGIN:DAYLIGHT
TZOFFSETFROM:+0000
TZOFFSETTO:+0100
TZNAME:BST
DTSTART:20220327T010000
END:DAYLIGHT
BEGIN:STANDARD
TZOFFSETFROM:+0100
TZOFFSETTO:+0000
TZNAME:GMT
DTSTART:20221030T010000
END:STANDARD
BEGIN:DAYLIGHT
TZOFFSETFROM:+0000
TZOFFSETTO:+0100
TZNAME:BST
DTSTART:20230326T010000
END:DAYLIGHT
BEGIN:STANDARD
TZOFFSETFROM:+0100
TZOFFSETTO:+0000
TZNAME:GMT
DTSTART:20231029T010000
END:STANDARD
BEGIN:DAYLIGHT
TZOFFSETFROM:+0000
TZOFFSETTO:+0100
TZNAME:BST
DTSTART:20240331T010000
END:DAYLIGHT
BEGIN:STANDARD
TZOFFSETFROM:+0100
TZOFFSETTO:+0000
TZNAME:GMT
DTSTART:20241027T010000
END:STANDARD
END:VTIMEZONE
BEGIN:VEVENT
DTSTART;TZID=Europe/London:20230214T090000
DTEND;TZID=Europe/London:20230214T150000
DTSTAMP:20260425T150951
CREATED:20230121T130439Z
LAST-MODIFIED:20230214T145535Z
UID:10000355-1676365200-1676386800@www.barnton.cheshire.sch.uk
SUMMARY:Reception Visit to Walton Hall
DESCRIPTION:
URL:https://www.barnton.cheshire.sch.uk/event/reception-visit-to-walton-hall/
END:VEVENT
BEGIN:VEVENT
DTSTART;TZID=Europe/London:20230215T093000
DTEND;TZID=Europe/London:20230215T113000
DTSTAMP:20260425T150951
CREATED:20230121T130439Z
LAST-MODIFIED:20230214T145535Z
UID:10000356-1676453400-1676460600@www.barnton.cheshire.sch.uk
SUMMARY:Parents' IT course
DESCRIPTION:
URL:https://www.barnton.cheshire.sch.uk/event/parents-it-course-3/
END:VEVENT
BEGIN:VEVENT
DTSTART;TZID=Europe/London:20230216T090000
DTEND;TZID=Europe/London:20230216T110000
DTSTAMP:20260425T150951
CREATED:20230121T130439Z
LAST-MODIFIED:20230215T150412Z
UID:10000357-1676538000-1676545200@www.barnton.cheshire.sch.uk
SUMMARY:Pocketbook Family Learning Course (Rec\, Y1\, Y2)
DESCRIPTION:
URL:https://www.barnton.cheshire.sch.uk/event/pocketbook-family-learning-course-rec-y1-y2-3/
END:VEVENT
BEGIN:VEVENT
DTSTART;TZID=Europe/London:20230216T153000
DTEND;TZID=Europe/London:20230216T163000
DTSTAMP:20260425T150951
CREATED:20230121T130439Z
LAST-MODIFIED:20230216T150438Z
UID:10000358-1676561400-1676565000@www.barnton.cheshire.sch.uk
SUMMARY:Y6 SATs Meeting
DESCRIPTION:
URL:https://www.barnton.cheshire.sch.uk/event/y6-sats-meeting/
END:VEVENT
BEGIN:VEVENT
DTSTART;TZID=Europe/London:20230217T153000
DTEND;TZID=Europe/London:20230218T000000
DTSTAMP:20260425T150951
CREATED:20230121T130439Z
LAST-MODIFIED:20230217T150511Z
UID:10000359-1676647800-1676678400@www.barnton.cheshire.sch.uk
SUMMARY:School closes for half term
DESCRIPTION:
URL:https://www.barnton.cheshire.sch.uk/event/school-closes-for-half-term/
END:VEVENT
END:VCALENDAR