BEGIN:VCALENDAR
VERSION:2.0
PRODID:-//Barnton Community Nursery &amp; Primary School - ECPv6.15.17//NONSGML v1.0//EN
CALSCALE:GREGORIAN
METHOD:PUBLISH
X-ORIGINAL-URL:https://www.barnton.cheshire.sch.uk
X-WR-CALDESC:Events for Barnton Community Nursery &amp; Primary School
REFRESH-INTERVAL;VALUE=DURATION:PT1H
X-Robots-Tag:noindex
X-PUBLISHED-TTL:PT1H
BEGIN:VTIMEZONE
TZID:Europe/London
BEGIN:DAYLIGHT
TZOFFSETFROM:+0000
TZOFFSETTO:+0100
TZNAME:BST
DTSTART:20220327T010000
END:DAYLIGHT
BEGIN:STANDARD
TZOFFSETFROM:+0100
TZOFFSETTO:+0000
TZNAME:GMT
DTSTART:20221030T010000
END:STANDARD
BEGIN:DAYLIGHT
TZOFFSETFROM:+0000
TZOFFSETTO:+0100
TZNAME:BST
DTSTART:20230326T010000
END:DAYLIGHT
BEGIN:STANDARD
TZOFFSETFROM:+0100
TZOFFSETTO:+0000
TZNAME:GMT
DTSTART:20231029T010000
END:STANDARD
BEGIN:DAYLIGHT
TZOFFSETFROM:+0000
TZOFFSETTO:+0100
TZNAME:BST
DTSTART:20240331T010000
END:DAYLIGHT
BEGIN:STANDARD
TZOFFSETFROM:+0100
TZOFFSETTO:+0000
TZNAME:GMT
DTSTART:20241027T010000
END:STANDARD
END:VTIMEZONE
BEGIN:VEVENT
DTSTART;TZID=Europe/London:20230208T093000
DTEND;TZID=Europe/London:20230208T113000
DTSTAMP:20260426T012325
CREATED:20230121T130439Z
LAST-MODIFIED:20230207T140417Z
UID:10000351-1675848600-1675855800@www.barnton.cheshire.sch.uk
SUMMARY:Parents' IT course
DESCRIPTION:
URL:https://www.barnton.cheshire.sch.uk/event/parents-it-course-2/
END:VEVENT
BEGIN:VEVENT
DTSTART;VALUE=DATE:20230209
DTEND;VALUE=DATE:20230210
DTSTAMP:20260426T012325
CREATED:20230121T130439Z
LAST-MODIFIED:20230209T142329Z
UID:10000352-1675900800-1675987199@www.barnton.cheshire.sch.uk
SUMMARY:Y6 - London Residential
DESCRIPTION:
URL:https://www.barnton.cheshire.sch.uk/event/y6-london-residential-2/
END:VEVENT
BEGIN:VEVENT
DTSTART;TZID=Europe/London:20230209T090000
DTEND;TZID=Europe/London:20230209T110000
DTSTAMP:20260426T012325
CREATED:20230121T130439Z
LAST-MODIFIED:20230208T140738Z
UID:10000353-1675933200-1675940400@www.barnton.cheshire.sch.uk
SUMMARY:Pocketbook Family Learning Course (Rec\, Y1\, Y2)
DESCRIPTION:
URL:https://www.barnton.cheshire.sch.uk/event/pocketbook-family-learning-course-rec-y1-y2-2/
END:VEVENT
BEGIN:VEVENT
DTSTART;VALUE=DATE:20230210
DTEND;VALUE=DATE:20230211
DTSTAMP:20260426T012325
CREATED:20230121T130439Z
LAST-MODIFIED:20230210T141942Z
UID:10000354-1675987200-1676073599@www.barnton.cheshire.sch.uk
SUMMARY:Y6 - London Residential
DESCRIPTION:
URL:https://www.barnton.cheshire.sch.uk/event/y6-london-residential-3/
END:VEVENT
END:VCALENDAR