BEGIN:VCALENDAR
VERSION:2.0
PRODID:-//Barnton Community Nursery &amp; Primary School - ECPv6.15.17//NONSGML v1.0//EN
CALSCALE:GREGORIAN
METHOD:PUBLISH
X-WR-CALNAME:Barnton Community Nursery &amp; Primary School
X-ORIGINAL-URL:https://www.barnton.cheshire.sch.uk
X-WR-CALDESC:Events for Barnton Community Nursery &amp; Primary School
REFRESH-INTERVAL;VALUE=DURATION:PT1H
X-Robots-Tag:noindex
X-PUBLISHED-TTL:PT1H
BEGIN:VTIMEZONE
TZID:Europe/London
BEGIN:DAYLIGHT
TZOFFSETFROM:+0000
TZOFFSETTO:+0100
TZNAME:BST
DTSTART:20220327T010000
END:DAYLIGHT
BEGIN:STANDARD
TZOFFSETFROM:+0100
TZOFFSETTO:+0000
TZNAME:GMT
DTSTART:20221030T010000
END:STANDARD
BEGIN:DAYLIGHT
TZOFFSETFROM:+0000
TZOFFSETTO:+0100
TZNAME:BST
DTSTART:20230326T010000
END:DAYLIGHT
BEGIN:STANDARD
TZOFFSETFROM:+0100
TZOFFSETTO:+0000
TZNAME:GMT
DTSTART:20231029T010000
END:STANDARD
BEGIN:DAYLIGHT
TZOFFSETFROM:+0000
TZOFFSETTO:+0100
TZNAME:BST
DTSTART:20240331T010000
END:DAYLIGHT
BEGIN:STANDARD
TZOFFSETFROM:+0100
TZOFFSETTO:+0000
TZNAME:GMT
DTSTART:20241027T010000
END:STANDARD
END:VTIMEZONE
BEGIN:VEVENT
DTSTART;TZID=Europe/London:20230130T090000
DTEND;TZID=Europe/London:20230130T150000
DTSTAMP:20260425T151842
CREATED:20230121T130426Z
LAST-MODIFIED:20230130T134939Z
UID:10000343-1675069200-1675090800@www.barnton.cheshire.sch.uk
SUMMARY:Y6ER Safety Central Visit
DESCRIPTION:
URL:https://www.barnton.cheshire.sch.uk/event/y6er-safety-central-visit/
END:VEVENT
BEGIN:VEVENT
DTSTART;VALUE=DATE:20230131
DTEND;VALUE=DATE:20230201
DTSTAMP:20260425T151842
CREATED:20230121T130426Z
LAST-MODIFIED:20230131T140432Z
UID:10000344-1675123200-1675209599@www.barnton.cheshire.sch.uk
SUMMARY:Essential Skills Day!
DESCRIPTION:
URL:https://www.barnton.cheshire.sch.uk/event/essential-skills-day/
END:VEVENT
BEGIN:VEVENT
DTSTART;TZID=Europe/London:20230201T090000
DTEND;TZID=Europe/London:20230201T093000
DTSTAMP:20260425T151842
CREATED:20230121T130426Z
LAST-MODIFIED:20230131T140432Z
UID:10000345-1675242000-1675243800@www.barnton.cheshire.sch.uk
SUMMARY:EYS & KS1 Maths Family Assembly
DESCRIPTION:
URL:https://www.barnton.cheshire.sch.uk/event/eys-ks1-maths-family-assembly/
END:VEVENT
BEGIN:VEVENT
DTSTART;TZID=Europe/London:20230201T093000
DTEND;TZID=Europe/London:20230201T113000
DTSTAMP:20260425T151842
CREATED:20230121T130426Z
LAST-MODIFIED:20230131T140432Z
UID:10000346-1675243800-1675251000@www.barnton.cheshire.sch.uk
SUMMARY:Parents' IT course
DESCRIPTION:
URL:https://www.barnton.cheshire.sch.uk/event/parents-it-course/
END:VEVENT
BEGIN:VEVENT
DTSTART;VALUE=DATE:20230202
DTEND;VALUE=DATE:20230203
DTSTAMP:20260425T151842
CREATED:20230121T130426Z
LAST-MODIFIED:20230202T140445Z
UID:10000348-1675296000-1675382399@www.barnton.cheshire.sch.uk
SUMMARY:Y4 Tatton Park Visit
DESCRIPTION:
URL:https://www.barnton.cheshire.sch.uk/event/y4-tatton-park-visit/
END:VEVENT
BEGIN:VEVENT
DTSTART;TZID=Europe/London:20230202T090000
DTEND;TZID=Europe/London:20230202T093000
DTSTAMP:20260425T151842
CREATED:20230121T130426Z
LAST-MODIFIED:20230201T140418Z
UID:10000347-1675328400-1675330200@www.barnton.cheshire.sch.uk
SUMMARY:KS2 Maths Family Assembly
DESCRIPTION:
URL:https://www.barnton.cheshire.sch.uk/event/ks2-maths-family-assembly/
END:VEVENT
BEGIN:VEVENT
DTSTART;TZID=Europe/London:20230202T090000
DTEND;TZID=Europe/London:20230202T110000
DTSTAMP:20260425T151842
CREATED:20230121T130426Z
LAST-MODIFIED:20230201T140418Z
UID:10000349-1675328400-1675335600@www.barnton.cheshire.sch.uk
SUMMARY:Pocketbook Family Learning Course (Rec\, Y1\, Y2)
DESCRIPTION:
URL:https://www.barnton.cheshire.sch.uk/event/pocketbook-family-learning-course-rec-y1-y2/
END:VEVENT
BEGIN:VEVENT
DTSTART;VALUE=DATE:20230203
DTEND;VALUE=DATE:20230204
DTSTAMP:20260425T151842
CREATED:20230121T130426Z
LAST-MODIFIED:20230203T140417Z
UID:10000350-1675382400-1675468799@www.barnton.cheshire.sch.uk
SUMMARY:NSPCC Number Day  - wear a number
DESCRIPTION:
URL:https://www.barnton.cheshire.sch.uk/event/nspcc-number-day-wear-a-number/
END:VEVENT
END:VCALENDAR