BEGIN:VCALENDAR
VERSION:2.0
PRODID:-//Barnton Community Nursery &amp; Primary School - ECPv6.15.17//NONSGML v1.0//EN
CALSCALE:GREGORIAN
METHOD:PUBLISH
X-WR-CALNAME:Barnton Community Nursery &amp; Primary School
X-ORIGINAL-URL:https://www.barnton.cheshire.sch.uk
X-WR-CALDESC:Events for Barnton Community Nursery &amp; Primary School
REFRESH-INTERVAL;VALUE=DURATION:PT1H
X-Robots-Tag:noindex
X-PUBLISHED-TTL:PT1H
BEGIN:VTIMEZONE
TZID:Europe/London
BEGIN:DAYLIGHT
TZOFFSETFROM:+0000
TZOFFSETTO:+0100
TZNAME:BST
DTSTART:20240331T010000
END:DAYLIGHT
BEGIN:STANDARD
TZOFFSETFROM:+0100
TZOFFSETTO:+0000
TZNAME:GMT
DTSTART:20241027T010000
END:STANDARD
BEGIN:DAYLIGHT
TZOFFSETFROM:+0000
TZOFFSETTO:+0100
TZNAME:BST
DTSTART:20250330T010000
END:DAYLIGHT
BEGIN:STANDARD
TZOFFSETFROM:+0100
TZOFFSETTO:+0000
TZNAME:GMT
DTSTART:20251026T010000
END:STANDARD
BEGIN:DAYLIGHT
TZOFFSETFROM:+0000
TZOFFSETTO:+0100
TZNAME:BST
DTSTART:20260329T010000
END:DAYLIGHT
BEGIN:STANDARD
TZOFFSETFROM:+0100
TZOFFSETTO:+0000
TZNAME:GMT
DTSTART:20261025T010000
END:STANDARD
END:VTIMEZONE
BEGIN:VEVENT
DTSTART;TZID=Europe/London:20251002T144500
DTEND;TZID=Europe/London:20251002T151500
DTSTAMP:20260424T124855
CREATED:20250916T061547Z
LAST-MODIFIED:20251002T123405Z
UID:10000472-1759416300-1759418100@www.barnton.cheshire.sch.uk
SUMMARY:Parents' Phonics Meeting
DESCRIPTION:
URL:https://www.barnton.cheshire.sch.uk/event/parents-phonics-meeting/
END:VEVENT
BEGIN:VEVENT
DTSTART;TZID=Europe/London:20251002T180000
DTEND;TZID=Europe/London:20251002T183000
DTSTAMP:20260424T124855
CREATED:20250916T061547Z
LAST-MODIFIED:20251002T123405Z
UID:10000473-1759428000-1759429800@www.barnton.cheshire.sch.uk
SUMMARY:Parents' Phonics Meeting
DESCRIPTION:
URL:https://www.barnton.cheshire.sch.uk/event/parents-phonics-meeting-2/
END:VEVENT
BEGIN:VEVENT
DTSTART;VALUE=DATE:20251006
DTEND;VALUE=DATE:20251007
DTSTAMP:20260424T124855
CREATED:20250916T061547Z
LAST-MODIFIED:20251006T123406Z
UID:10000474-1759708800-1759795199@www.barnton.cheshire.sch.uk
SUMMARY:Y6AM Swimming
DESCRIPTION:
URL:https://www.barnton.cheshire.sch.uk/event/y6am-swimming-3/
END:VEVENT
BEGIN:VEVENT
DTSTART;VALUE=DATE:20251013
DTEND;VALUE=DATE:20251014
DTSTAMP:20260424T124855
CREATED:20250916T061547Z
LAST-MODIFIED:20251013T124905Z
UID:10000475-1760313600-1760399999@www.barnton.cheshire.sch.uk
SUMMARY:Y6AM Swimming
DESCRIPTION:
URL:https://www.barnton.cheshire.sch.uk/event/y6am-swimming-4/
END:VEVENT
BEGIN:VEVENT
DTSTART;TZID=Europe/London:20251017T080000
DTEND;TZID=Europe/London:20251017T090000
DTSTAMP:20260424T124855
CREATED:20250916T061547Z
LAST-MODIFIED:20251013T124905Z
UID:10000476-1760688000-1760691600@www.barnton.cheshire.sch.uk
SUMMARY:Family and Individual Photos
DESCRIPTION:
URL:https://www.barnton.cheshire.sch.uk/event/family-and-individual-photos/
END:VEVENT
BEGIN:VEVENT
DTSTART;VALUE=DATE:20251020
DTEND;VALUE=DATE:20251021
DTSTAMP:20260424T124855
CREATED:20250916T061559Z
LAST-MODIFIED:20251013T124905Z
UID:10000477-1760918400-1761004799@www.barnton.cheshire.sch.uk
SUMMARY:Y6AM Swimming
DESCRIPTION:
URL:https://www.barnton.cheshire.sch.uk/event/y6am-swimming-5/
END:VEVENT
BEGIN:VEVENT
DTSTART;VALUE=DATE:20251024
DTEND;VALUE=DATE:20251025
DTSTAMP:20260424T124855
CREATED:20250916T061559Z
LAST-MODIFIED:20251013T124905Z
UID:10000478-1761264000-1761350399@www.barnton.cheshire.sch.uk
SUMMARY:School closes
DESCRIPTION:
URL:https://www.barnton.cheshire.sch.uk/event/school-closes-13/
END:VEVENT
BEGIN:VEVENT
DTSTART;VALUE=DATE:20251025
DTEND;VALUE=DATE:20251103
DTSTAMP:20260424T124855
CREATED:20250916T061559Z
LAST-MODIFIED:20251013T124905Z
UID:10000440-1761350400-1762127999@www.barnton.cheshire.sch.uk
SUMMARY:October Half Term
DESCRIPTION:
URL:https://www.barnton.cheshire.sch.uk/event/october-half-term/
END:VEVENT
END:VCALENDAR