BEGIN:VCALENDAR
VERSION:2.0
PRODID:-//Barnton Community Nursery &amp; Primary School - ECPv6.15.17//NONSGML v1.0//EN
CALSCALE:GREGORIAN
METHOD:PUBLISH
X-WR-CALNAME:Barnton Community Nursery &amp; Primary School
X-ORIGINAL-URL:https://www.barnton.cheshire.sch.uk
X-WR-CALDESC:Events for Barnton Community Nursery &amp; Primary School
REFRESH-INTERVAL;VALUE=DURATION:PT1H
X-Robots-Tag:noindex
X-PUBLISHED-TTL:PT1H
BEGIN:VTIMEZONE
TZID:Europe/London
BEGIN:DAYLIGHT
TZOFFSETFROM:+0000
TZOFFSETTO:+0100
TZNAME:BST
DTSTART:20220327T010000
END:DAYLIGHT
BEGIN:STANDARD
TZOFFSETFROM:+0100
TZOFFSETTO:+0000
TZNAME:GMT
DTSTART:20221030T010000
END:STANDARD
BEGIN:DAYLIGHT
TZOFFSETFROM:+0000
TZOFFSETTO:+0100
TZNAME:BST
DTSTART:20230326T010000
END:DAYLIGHT
BEGIN:STANDARD
TZOFFSETFROM:+0100
TZOFFSETTO:+0000
TZNAME:GMT
DTSTART:20231029T010000
END:STANDARD
BEGIN:DAYLIGHT
TZOFFSETFROM:+0000
TZOFFSETTO:+0100
TZNAME:BST
DTSTART:20240331T010000
END:DAYLIGHT
BEGIN:STANDARD
TZOFFSETFROM:+0100
TZOFFSETTO:+0000
TZNAME:GMT
DTSTART:20241027T010000
END:STANDARD
END:VTIMEZONE
BEGIN:VEVENT
DTSTART;TZID=Europe/London:20230705T133000
DTEND;TZID=Europe/London:20230705T150000
DTSTAMP:20260426T003133
CREATED:20230509T181912Z
LAST-MODIFIED:20230704T220936Z
UID:10000384-1688563800-1688569200@www.barnton.cheshire.sch.uk
SUMMARY:Y4 @ Halle
DESCRIPTION:
URL:https://www.barnton.cheshire.sch.uk/event/y4-halle-2/
END:VEVENT
BEGIN:VEVENT
DTSTART;VALUE=DATE:20230706
DTEND;VALUE=DATE:20230707
DTSTAMP:20260426T003133
CREATED:20230509T181912Z
LAST-MODIFIED:20230706T223422Z
UID:10000388-1688601600-1688687999@www.barnton.cheshire.sch.uk
SUMMARY:Transition Day
DESCRIPTION:
URL:https://www.barnton.cheshire.sch.uk/event/transition-day-2/
END:VEVENT
BEGIN:VEVENT
DTSTART;TZID=Europe/London:20230706T090000
DTEND;TZID=Europe/London:20230706T110000
DTSTAMP:20260426T003133
CREATED:20230509T181912Z
LAST-MODIFIED:20230705T222245Z
UID:10000389-1688634000-1688641200@www.barnton.cheshire.sch.uk
SUMMARY:Family Learning - English Skills
DESCRIPTION:
URL:https://www.barnton.cheshire.sch.uk/event/family-learning-english-skills-5/
END:VEVENT
BEGIN:VEVENT
DTSTART;VALUE=DATE:20230710
DTEND;VALUE=DATE:20230711
DTSTAMP:20260426T003133
CREATED:20230509T181912Z
LAST-MODIFIED:20230710T224412Z
UID:10000387-1688947200-1689033599@www.barnton.cheshire.sch.uk
SUMMARY:Inspire Day
DESCRIPTION:
URL:https://www.barnton.cheshire.sch.uk/event/inspire-day-2/
END:VEVENT
BEGIN:VEVENT
DTSTART;TZID=Europe/London:20230712T140000
DTEND;TZID=Europe/London:20230712T150000
DTSTAMP:20260426T003133
CREATED:20230509T181912Z
LAST-MODIFIED:20230711T224919Z
UID:10000390-1689170400-1689174000@www.barnton.cheshire.sch.uk
SUMMARY:Y6 Performance
DESCRIPTION:
URL:https://www.barnton.cheshire.sch.uk/event/y6-performance/
END:VEVENT
BEGIN:VEVENT
DTSTART;TZID=Europe/London:20230712T180000
DTEND;TZID=Europe/London:20230712T190000
DTSTAMP:20260426T003133
CREATED:20230509T181912Z
LAST-MODIFIED:20230711T224919Z
UID:10000391-1689184800-1689188400@www.barnton.cheshire.sch.uk
SUMMARY:Y6 Performance
DESCRIPTION:
URL:https://www.barnton.cheshire.sch.uk/event/y6-performance-2/
END:VEVENT
BEGIN:VEVENT
DTSTART;TZID=Europe/London:20230713T090000
DTEND;TZID=Europe/London:20230713T110000
DTSTAMP:20260426T003133
CREATED:20230509T181913Z
LAST-MODIFIED:20230712T230952Z
UID:10000392-1689238800-1689246000@www.barnton.cheshire.sch.uk
SUMMARY:Family Learning - English Skills
DESCRIPTION:
URL:https://www.barnton.cheshire.sch.uk/event/family-learning-english-skills-6/
END:VEVENT
BEGIN:VEVENT
DTSTART;TZID=Europe/London:20230713T140000
DTEND;TZID=Europe/London:20230713T150000
DTSTAMP:20260426T003133
CREATED:20230509T181913Z
LAST-MODIFIED:20230712T230952Z
UID:10000393-1689256800-1689260400@www.barnton.cheshire.sch.uk
SUMMARY:Y6 Performance
DESCRIPTION:
URL:https://www.barnton.cheshire.sch.uk/event/y6-performance-3/
END:VEVENT
BEGIN:VEVENT
DTSTART;TZID=Europe/London:20230713T180000
DTEND;TZID=Europe/London:20230713T190000
DTSTAMP:20260426T003133
CREATED:20230509T181913Z
LAST-MODIFIED:20230712T230952Z
UID:10000394-1689271200-1689274800@www.barnton.cheshire.sch.uk
SUMMARY:Y6 Performance
DESCRIPTION:
URL:https://www.barnton.cheshire.sch.uk/event/y6-performance-4/
END:VEVENT
BEGIN:VEVENT
DTSTART;TZID=Europe/London:20230720T140000
DTEND;TZID=Europe/London:20230720T150000
DTSTAMP:20260426T003133
CREATED:20230509T181913Z
LAST-MODIFIED:20230720T113441Z
UID:10000395-1689861600-1689865200@www.barnton.cheshire.sch.uk
SUMMARY:Y6 Leavers' Assembly
DESCRIPTION:
URL:https://www.barnton.cheshire.sch.uk/event/y6-leavers-assembly-3/
END:VEVENT
BEGIN:VEVENT
DTSTART;TZID=Europe/London:20230720T153000
DTEND;TZID=Europe/London:20230720T233000
DTSTAMP:20260426T003133
CREATED:20230509T181913Z
LAST-MODIFIED:20230720T113441Z
UID:10000396-1689867000-1689895800@www.barnton.cheshire.sch.uk
SUMMARY:Break up for Summer
DESCRIPTION:
URL:https://www.barnton.cheshire.sch.uk/event/break-up-for-summer/
END:VEVENT
END:VCALENDAR