BEGIN:VCALENDAR
VERSION:2.0
PRODID:-//Barnton Community Nursery &amp; Primary School - ECPv6.15.17//NONSGML v1.0//EN
CALSCALE:GREGORIAN
METHOD:PUBLISH
X-ORIGINAL-URL:https://www.barnton.cheshire.sch.uk
X-WR-CALDESC:Events for Barnton Community Nursery &amp; Primary School
REFRESH-INTERVAL;VALUE=DURATION:PT1H
X-Robots-Tag:noindex
X-PUBLISHED-TTL:PT1H
BEGIN:VTIMEZONE
TZID:UTC
BEGIN:STANDARD
TZOFFSETFROM:+0000
TZOFFSETTO:+0000
TZNAME:UTC
DTSTART:20250101T000000
END:STANDARD
END:VTIMEZONE
BEGIN:VEVENT
DTSTART;TZID=UTC:20260331T140000
DTEND;TZID=UTC:20260331T150000
DTSTAMP:20260425T015051
CREATED:20260129T130556Z
LAST-MODIFIED:20260129T130556Z
UID:10000537-1774965600-1774969200@www.barnton.cheshire.sch.uk
SUMMARY:EYFS Easter Bonnet Parade
DESCRIPTION:
URL:https://www.barnton.cheshire.sch.uk/event/eyfs-easter-bonnet-parade/
END:VEVENT
BEGIN:VEVENT
DTSTART;TZID=UTC:20260331T170000
DTEND;TZID=UTC:20260331T190000
DTSTAMP:20260425T015051
CREATED:20260129T130631Z
LAST-MODIFIED:20260129T130631Z
UID:10000538-1774976400-1774983600@www.barnton.cheshire.sch.uk
SUMMARY:FSA Easter Bingo
DESCRIPTION:
URL:https://www.barnton.cheshire.sch.uk/event/fsa-easter-bingo-2/
END:VEVENT
END:VCALENDAR